BEGIN:VCALENDAR
VERSION:2.0
METHOD:PUBLISH
PRODID:-//hacksw/handcal//NONSGML v1.0//EN
BEGIN:VEVENT
DTSTAMP:20260421T133102Z
DTSTART:20200120T183000Z
DTEND:20200120T194000Z
UID:20200120T183000Z-20200120T194000Z-1145@www.aegela.com
SUMMARY:Level 1 Belly Dancing Class
DESCRIPTION:Level 1 is a beginner's introduction to basic belly dance 
 movements\; no prior dance training necessary.\n\nClick Here To Regist
 er for this Class Series.
X-ALT-DESC;FMTTYPE=text/html:<p>Level 1 is a beginner&#8217\;s introdu
 ction to basic belly dance movements\; no prior dance training necessa
 ry.</p>\n<p><a href=/product/belly-dancing-level-1/>Click Here</a> To 
 Register for this Class Series.</p>\n
URL:https://www.aegela.com/events/level-1-belly-dancing-class-18/?lang
 =en
ATTACH:https://www.aegela.com/events/level-1-belly-dancing-class-18/?l
 ang=en
LOCATION:The Martin School Building\, 10 S. Holland Sylvania Road\, To
 ledo\, Oh 43615
END:VEVENT
END:VCALENDAR
