BEGIN:VCALENDAR
VERSION:2.0
METHOD:PUBLISH
PRODID:-//hacksw/handcal//NONSGML v1.0//EN
BEGIN:VEVENT
DTSTAMP:20260422T095548Z
DTSTART:20200930T183000Z
DTEND:20200930T193000Z
UID:20200930T183000Z-20200930T193000Z-1278@www.aegela.com
SUMMARY:Group Improvisation Online Belly Dancing Class
DESCRIPTION:Formerly Tribal\, with a focus on FCBD Style ® vocabulary 
 of movements.\n\nNOTE: Online classes via Zoom\; participants will als
 o receive a link to the class to view for additional 5 days/week.\n\nC
 ompletion of Level 1B or equivalent required.\n\nClick Here To Registe
 r for this Class Series.
X-ALT-DESC;FMTTYPE=text/html:<p>Formerly Tribal\, with a focus on FCBD
  Style ® vocabulary of movements.</p>\n<p>NOTE: Online classes via Zoo
 m\; participants will also receive a link to the class to view for add
 itional 5 days/week.</p>\n<p>Completion of Level 1B or equivalent requ
 ired.</p>\n<p><a href=https://www.aegela.com/product/group-improvisati
 on-wednesdays/>Click Here</a> To Register for this Class Series.</p>\n
URL:https://www.aegela.com/events/group-improvisation-online-belly-dan
 cing-class-9/?lang=en
ATTACH:https://www.aegela.com/events/group-improvisation-online-belly-
 dancing-class-9/?lang=en
END:VEVENT
END:VCALENDAR
