BEGIN:VCALENDAR
VERSION:2.0
METHOD:PUBLISH
PRODID:-//hacksw/handcal//NONSGML v1.0//EN
BEGIN:VEVENT
DTSTAMP:20260421T225805Z
DTSTART:20201102T183000Z
DTEND:20201102T194000Z
UID:20201102T183000Z-20201102T194000Z-1300@www.aegela.com
SUMMARY:Level 1 & 1B Mixed Belly Dance - In Person
DESCRIPTION:A mixed level class suitable for the novice with no experi
 ence\, or those with a bit more than basics.\n\nNo prior dance trainin
 g required.\n\n6 week class series\, Classes on every Monday.\n\nClick
  Here To Register for this Class Series.
X-ALT-DESC;FMTTYPE=text/html:<p>A mixed level class suitable for the n
 ovice with no experience\, or those with a bit more than basics.</p>\n
 <p>No prior dance training required.</p>\n<p>6 week class series\, Cla
 sses on every Monday.</p>\n<p><a href=https://www.aegela.com/product/l
 evel-1-1b-belly-dance/>Click Here</a> To Register for this Class Serie
 s.</p>\n
URL:https://www.aegela.com/events/level-1-1b-mixed-belly-dance/?lang=e
 n
ATTACH:https://www.aegela.com/events/level-1-1b-mixed-belly-dance/?lan
 g=en
LOCATION:The Martin School Building\, 10 S. Holland Sylvania Road\, To
 ledo\, Oh 43615
END:VEVENT
END:VCALENDAR
