BEGIN:VCALENDAR
VERSION:2.0
METHOD:PUBLISH
PRODID:-//hacksw/handcal//NONSGML v1.0//EN
BEGIN:VEVENT
DTSTAMP:20260424T171423Z
DTSTART:20210519T183000Z
DTEND:20210519T193000Z
UID:20210519T183000Z-20210519T193000Z-1418@www.aegela.com
SUMMARY:Belly Dancing - Explore Folklore | Wednesdays - Online
DESCRIPTION:A sampling of the folkloric styles of Egypt and North Afri
 ca\; a different flavor each week from Saidi through Tunisian\nNOTE: O
 nline classes via Zoom\; participants will also receive a link to the 
 class to view for additional 5 days/week\n\nRequirements: Open to all 
 – Knowledge of fundamentals highly recommended.\n\n6 week class series
 \, Classes on every Wednesdays Online.\n\nOnline classes may be purcha
 sed on a drop in basis - Contact Aegela.\nClick Here To Register for t
 his Class Series.
X-ALT-DESC;FMTTYPE=text/html:<div class=Desc35>A sampling of the folkl
 oric styles of Egypt and North Africa\; a different flavor each week f
 rom Saidi through Tunisian</div>\n<div>NOTE: Online classes via Zoom\;
  participants will also receive a link to the class to view for additi
 onal 5 days/week</div>\n<div class=Desc35></div>\n<div><strong>Require
 ments</strong>: Open to all – Knowledge of fundamentals highly recomme
 nded.</div>\n<div></div>\n<div class=Desc35>6 week class series\, Clas
 ses on every Wednesdays Online.</div>\n<div></div>\n<div><strong>Onlin
 e classes may be purchased on a drop in basis &#8211\; <a href=https:/
 /www.aegela.com/contact-us/>Contact Aegela</a>.</strong></div>\n<p><a 
 href=https://www.aegela.com/product/explore-folklore/>Click Here</a> T
 o Register for this Class Series.</p>\n
URL:https://www.aegela.com/events/belly-dancing-explore-folklore-wedne
 sdays-online-5/?lang=en
ATTACH:https://www.aegela.com/events/belly-dancing-explore-folklore-we
 dnesdays-online-5/?lang=en
LOCATION:The Glann School\, 1700 N Reynolds Rd\, Toledo\, Oh 43615
END:VEVENT
END:VCALENDAR
