BEGIN:VCALENDAR
VERSION:2.0
METHOD:PUBLISH
PRODID:-//hacksw/handcal//NONSGML v1.0//EN
BEGIN:VEVENT
DTSTAMP:20260421T095045Z
DTSTART:20210714T194500Z
DTEND:20210714T204500Z
UID:20210714T194500Z-20210714T204500Z-1455@www.aegela.com
SUMMARY:Belly Dancing - Synchronized Group Improv | Wednesdays - In Pe
 rson
DESCRIPTION:Learn specific moves and cues to spontaneously perform imp
 rovised belly dance in sync with a group\nRequirements: Completion of 
 Level 1B or equivalent required\n\n6 week class series\, Classes on ev
 ery Wednesdays Online.\nClick Here To Register for this Class Series.
X-ALT-DESC;FMTTYPE=text/html:<p>Learn specific moves and cues to spont
 aneously perform improvised belly dance in sync with a group</p>\n<div
 ><strong>Requirements</strong>: Completion of Level 1B or equivalent r
 equired</div>\n<div></div>\n<div class=Desc35>6 week class series\, Cl
 asses on every Wednesdays Online.</div>\n<p><a href=https://www.aegela
 .com/product/belly-dancing-synchronized-group-improv-wednesdays/>Click
  Here</a> To Register for this Class Series.</p>\n
URL:https://www.aegela.com/events/belly-dancing-synchronized-group-imp
 rov-wednesdays-in-person-6/?lang=en
ATTACH:https://www.aegela.com/events/belly-dancing-synchronized-group-
 improv-wednesdays-in-person-6/?lang=en
LOCATION:The Glann School\, 1700 N Reynolds Rd\, Toledo\, Oh 43615
END:VEVENT
END:VCALENDAR
