BEGIN:VCALENDAR
VERSION:2.0
METHOD:PUBLISH
PRODID:-//hacksw/handcal//NONSGML v1.0//EN
BEGIN:VEVENT
DTSTAMP:20260421T231917Z
DTSTART:20220124T183000Z
DTEND:20220124T194000Z
UID:20220124T183000Z-20220124T194000Z-1613@www.aegela.com
SUMMARY:Level 1B Belly Dancing Class | Mondays - In Person
DESCRIPTION:Dancing with zils (finger cymbals)\; use of short choreogr
 aphy for technique\; suitable for those returning after a hiatus.\n\nR
 equirements: Completion of Level 1 or equivalent required\n\nInstructo
 r: Cheryl\n\nClick Here To Register for this Class Series.
X-ALT-DESC;FMTTYPE=text/html:<p>Dancing with zils (finger cymbals)\; u
 se of short choreography for technique\; suitable for those returning 
 after a hiatus.</p>\n<p>Requirements: Completion of Level 1 or equival
 ent required</p>\n<p>Instructor: Cheryl</p>\n<p><a href=/product/belly
 -dancing-level-1-b/>Click Here</a> To Register for this Class Series.<
 /p>\n
URL:https://www.aegela.com/events/level-1b-belly-dancing-class-mondays
 -in-person-27/?lang=en
ATTACH:https://www.aegela.com/events/level-1b-belly-dancing-class-mond
 ays-in-person-27/?lang=en
LOCATION:The Glann School\, 1700 N Reynolds Rd\, Toledo\, Oh 43615
END:VEVENT
END:VCALENDAR
