BEGIN:VCALENDAR
VERSION:2.0
METHOD:PUBLISH
PRODID:-//hacksw/handcal//NONSGML v1.0//EN
BEGIN:VEVENT
DTSTAMP:20260425T033122Z
DTSTART:20220811T184000Z
DTEND:20220811T194000Z
UID:20220811T184000Z-20220811T194000Z-1809@www.aegela.com
SUMMARY:Intro Synchronized Group Improv
DESCRIPTION:Summer Specialty Classes are open to anyone who has comple
 ted Level 1.\n\nIntro Synchronized Group Improv – Thursday August 11\,
  2022 6:30- 7:40 pm\nInstructor: Jen
X-ALT-DESC;FMTTYPE=text/html:<p>Summer Specialty Classes are open to a
 nyone who has completed Level 1.</p>\n<p>Intro Synchronized Group Impr
 ov – Thursday August 11\, 2022 6:30- 7:40 pm<br>\nInstructor: Jen</p>\
 n
URL:https://www.aegela.com/events/intro-synchronized-group-improv/?lan
 g=en
ATTACH:https://www.aegela.com/events/intro-synchronized-group-improv/?
 lang=en
LOCATION:The Glann School\, 1700 N Reynolds Rd\, Toledo\, Oh 43615
END:VEVENT
END:VCALENDAR
