BEGIN:VCALENDAR
VERSION:2.0
METHOD:PUBLISH
PRODID:-//hacksw/handcal//NONSGML v1.0//EN
BEGIN:VEVENT
DTSTAMP:20260420T154648Z
DTSTART:20230318T093000Z
DTEND:20230318T104000Z
UID:20230318T093000Z-20230318T104000Z-2011@www.aegela.com
SUMMARY:Just Dance! Belly Dancing Class | Saturdays
DESCRIPTION:Just Dance! Using combinations\, apply technique\, master 
 transitions\, use of space\, emotion in motion\; no choreography.\n\nR
 equirements: Completion of Level 1 or equivalent required\n\nInstructo
 r: Aegela\n\nClick Here To Register for this Class Series.
X-ALT-DESC;FMTTYPE=text/html:<p>Just Dance! Using combinations\, apply
  technique\, master transitions\, use of space\, emotion in motion\; n
 o choreography.</p>\n<p><strong>Requirements</strong>: Completion of L
 evel 1 or equivalent required</p>\n<p>Instructor: Aegela</p>\n<p><a hr
 ef=https://www.aegela.com/product/just-dance/>Click Here</a> To Regist
 er for this Class Series.</p>\n
URL:https://www.aegela.com/events/just-dance-belly-dancing-class-satur
 days-8/?lang=en
ATTACH:https://www.aegela.com/events/just-dance-belly-dancing-class-sa
 turdays-8/?lang=en
LOCATION:The Glann School\, 1700 N Reynolds Rd\, Toledo\, Oh 43615
END:VEVENT
END:VCALENDAR
