BEGIN:VCALENDAR
VERSION:2.0
METHOD:PUBLISH
PRODID:-//hacksw/handcal//NONSGML v1.0//EN
BEGIN:VEVENT
DTSTAMP:20260424T191102Z
DTSTART:20240826T183000Z
DTEND:20240826T194000Z
UID:20240826T183000Z-20240826T194000Z-2419@www.aegela.com
SUMMARY:Back to Basics | Mondays
DESCRIPTION:A review of basic belly dance movements and dance techniqu
 e.\n\nNo prior dance training required\n\nInstructor: Cheryl\n\nClick 
 Here To Register for this Class Series.
X-ALT-DESC;FMTTYPE=text/html:<p>A review of basic belly dance movement
 s and dance technique.</p>\n<p>No prior dance training required</p>\n<
 p>Instructor: Cheryl</p>\n<p><a href=https://www.aegela.com/product/be
 lly-dancing-back-to-basics/>Click Here</a> To Register for this Class 
 Series.</p>\n
URL:https://www.aegela.com/events/back-to-basics-mondays-3/?lang=en
ATTACH:https://www.aegela.com/events/back-to-basics-mondays-3/?lang=en
LOCATION:The Glann School\, 1700 N Reynolds Rd\, Toledo\, Oh 43615
END:VEVENT
END:VCALENDAR
