BEGIN:VCALENDAR
VERSION:2.0
METHOD:PUBLISH
PRODID:-//hacksw/handcal//NONSGML v1.0//EN
BEGIN:VEVENT
DTSTAMP:20260419T155550Z
DTSTART:20250122T183000Z
DTEND:20250122T194000Z
UID:20250122T183000Z-20250122T194000Z-2543@www.aegela.com
SUMMARY:Dancing w/ Props - Fans Belly Dancing Class | Wednesdays
DESCRIPTION:Dancing with Props Series - Fans: Introducing a new series
  of dancing with props\; the Art of the Fan is the first in the series
 \n\nRequirements: Completion of Level 1 or equivalent required\n\nInst
 ructor: Jen\n\nClick Here To Register for this Class Series.
X-ALT-DESC;FMTTYPE=text/html:<p>Dancing with Props Series &#8211\; Fan
 s: Introducing a new series of dancing with props\; the Art of the Fan
  is the first in the series</p>\n<p><strong>Requirements</strong>: Com
 pletion of Level 1 or equivalent required</p>\n<p>Instructor: Jen</p>\
 n<p><a href=https://www.aegela.com/product/belly-dancing-dancing-w-pro
 ps-fans-wednesdays-copy/>Click Here</a> To Register for this Class Ser
 ies.</p>\n
URL:https://www.aegela.com/events/dancing-w-props-fans-belly-dancing-c
 lass-wednesdays-2/?lang=en
ATTACH:https://www.aegela.com/events/dancing-w-props-fans-belly-dancin
 g-class-wednesdays-2/?lang=en
LOCATION:The Glann School\, 1700 N Reynolds Rd\, Toledo\, Oh 43615
END:VEVENT
END:VCALENDAR
